BEGIN:VCALENDAR
VERSION:2.0
PRODID:-//Soul Genesis - ECPv6.15.20//NONSGML v1.0//EN
CALSCALE:GREGORIAN
METHOD:PUBLISH
X-WR-CALNAME:Soul Genesis
X-ORIGINAL-URL:https://soulgenesis.net
X-WR-CALDESC:Events for Soul Genesis
REFRESH-INTERVAL;VALUE=DURATION:PT1H
X-Robots-Tag:noindex
X-PUBLISHED-TTL:PT1H
BEGIN:VTIMEZONE
TZID:America/New_York
BEGIN:DAYLIGHT
TZOFFSETFROM:-0500
TZOFFSETTO:-0400
TZNAME:EDT
DTSTART:20230312T070000
END:DAYLIGHT
BEGIN:STANDARD
TZOFFSETFROM:-0400
TZOFFSETTO:-0500
TZNAME:EST
DTSTART:20231105T060000
END:STANDARD
BEGIN:DAYLIGHT
TZOFFSETFROM:-0500
TZOFFSETTO:-0400
TZNAME:EDT
DTSTART:20240310T070000
END:DAYLIGHT
BEGIN:STANDARD
TZOFFSETFROM:-0400
TZOFFSETTO:-0500
TZNAME:EST
DTSTART:20241103T060000
END:STANDARD
BEGIN:DAYLIGHT
TZOFFSETFROM:-0500
TZOFFSETTO:-0400
TZNAME:EDT
DTSTART:20250309T070000
END:DAYLIGHT
BEGIN:STANDARD
TZOFFSETFROM:-0400
TZOFFSETTO:-0500
TZNAME:EST
DTSTART:20251102T060000
END:STANDARD
BEGIN:DAYLIGHT
TZOFFSETFROM:-0500
TZOFFSETTO:-0400
TZNAME:EDT
DTSTART:20260308T070000
END:DAYLIGHT
BEGIN:STANDARD
TZOFFSETFROM:-0400
TZOFFSETTO:-0500
TZNAME:EST
DTSTART:20261101T060000
END:STANDARD
END:VTIMEZONE
BEGIN:VEVENT
DTSTART;TZID=America/New_York:20250111T150000
DTEND;TZID=America/New_York:20250111T163000
DTSTAMP:20260426T003507
CREATED:20241128T142703Z
LAST-MODIFIED:20250109T124330Z
UID:2531-1736607600-1736613000@soulgenesis.net
SUMMARY:The Five Pillars of Intimacy - Workshop
DESCRIPTION:Join our first class in the Soul Genesis series “The Five Pillars of Intimacy” to learn how to master the essential skill of proficient communication. \nLearn the difference between the communication styles of the masculine and the feminine to finally understand your partner’s (or future partner’s) needs and desires . \nJoin two soulful lovers who have consciously navigated the adventure of intimate communication in their own lives and have been rewarded with tremendous fulfillment. We want to share this now with you! \nA recording will be available for those who cannot attend the live event. \n\nNote: Please select ticket number below before purchase.
URL:https://soulgenesis.net/event/communication/
LOCATION:Zoom
ORGANIZER;CN="Soul Genesis":MAILTO:Info@soulgenesis.net
END:VEVENT
BEGIN:VEVENT
DTSTART;TZID=America/New_York:20240609T140000
DTEND;TZID=America/New_York:20240609T160000
DTSTAMP:20260426T003507
CREATED:20240417T125440Z
LAST-MODIFIED:20240417T125440Z
UID:2415-1717941600-1717948800@soulgenesis.net
SUMMARY:The Layers of Sacred Intimacy
DESCRIPTION:How’s your love life? ❤️ \nBe totally honest!\nWhat level of satisfaction are you now experiencing with regard to love and intimacy in your primary relationship? Have you ever wondered if there is more?; more to feel\, more to share\, more to give\, more to live? \nWell wonder no more! \nAs in all of life\, THERE’S ALWAYS MORE!:\n-more love\n-more compassion\,\n-more connection\n-more intimacy. \nTo fully experience this elusive “more’\, we must first peel away all the layers\, boundaries and protective armor we have donned to keep ourselves safe. This is both an exhilarating and scary process and yet it’s a necessary step if you wish to experience the greatest fulfillment of life: true soul union with another being. \nIn this two-hour virtual workshop\, we will explore powerful techniques that awaken your passionate lover; loving yourself first as a foundation for loving others. \nThe end result is to live as love embodied; through practice\, training\, and simply with a relaxed open heart. \nIn this workshop\, we will explore: \n1. polarity: what it is\, why it’s important and how to cultivate ‘more’\n2. magnetization practices to keep your present or future partner perpetually attracted to you\n3. the relationship of sexuality with spirituality and how to source them in the correct sequence\n4. how to complete yourself\, your incarnation and your soul union through the conscious integration of masculine and feminine energy. \nThis workshop will be held on June 9 at 2 PM ET. A recording will be available for those who cannot make the live session. \n\n\n\n\nThis masterclass is geared towards couples who consciously want ‘more’ in their intimate relationship and singles looking for that special someone.\n\nNote: Please select ticket number below before purchase.
URL:https://soulgenesis.net/event/the-layers-of-sacred-intimacy/
LOCATION:Zoom
ORGANIZER;CN="Soul Genesis":MAILTO:Info@soulgenesis.net
END:VEVENT
BEGIN:VEVENT
DTSTART;TZID=America/New_York:20240310T140000
DTEND;TZID=America/New_York:20240310T160000
DTSTAMP:20260426T003507
CREATED:20240129T150652Z
LAST-MODIFIED:20240302T040421Z
UID:2371-1710079200-1710086400@soulgenesis.net
SUMMARY:Love More in 2024 March
DESCRIPTION:We have all repeatedly heard that open communication is the essential basis of every healthy relationship. But that’s only 1/3 of the story. No matter how precisely we can communicate our needs\, the next essential piece is how well those messages are received and interpreted.\nMany conflicts arise not just from the lack of communication but rather how that communication is deciphered by your partner. (Remember that men are from Mars.) It’s often comical how an expressed wish may not at all resemble the truly desired need. (And women are from Venus!) \nThe final piece to this love conundrum is how distinct every person’s love language can be – often as unique as their fingerprints. Being that there are five different love languages\, no wonder so many partnerships result in bickering\, conflict\, avoidance and/or dissolution.\n\n\nWell no longer! \n \nCome join us for the next session in our series:\n\n\n‘Love More in 2024’: \n\n\n\n‘Communicating Intimacy through your Love Language’\n\nIn this workshop\, we will comprehensively explore:\n\n\nthe perpetual need for open\, honest and non-judgmental communication\nhow to expertly interpret\, align and respond to your partner’s unique expression style\nhonoring your partner’s love language so you can lovingly and effectively fulfill their deepest desires\ncreating and updating a sacred ‘love covenant’ defining each of your needs and the mutual commitment to fulfill them\n\nThis workshop will include didactic teachings\, embodiment practices\, meditations\, journaling and intimacy enhancing exercises both during the workshop as well as for take home practice.\n\nThis series is geared towards couples who consciously want to choose ‘more’ and singles looking for that special someone.\n\nNote: Please select ticket number below before purchase.
URL:https://soulgenesis.net/event/love-more-in-2024-march/
LOCATION:Zoom
END:VEVENT
BEGIN:VEVENT
DTSTART;TZID=America/New_York:20240211T140000
DTEND;TZID=America/New_York:20240212T160000
DTSTAMP:20260426T003507
CREATED:20231227T173508Z
LAST-MODIFIED:20240211T144547Z
UID:1466-1707660000-1707753600@soulgenesis.net
SUMMARY:Love More in 2024 FEB
DESCRIPTION:For those of you who attended our first ‘Love More in 2024’ workshop and want to experience the next level of ‘MORE’\, we are excited to offer our second workshop\, ‘Your love bubble: The best investment you’ll ever make’. \nAnd for those coming on board for the first time\, welcome! \nIn this next workshop\, we will be exploring and cultivating:: \n\nhow intimacy is the spark of all passion\, attraction\, seduction and excitement\nHow your relationship is the container that regulates and eternally sustains your loving intimacy.\nintimate relationship as the most important investment you’ll ever make (with a guaranteed lifetime return!)\ncreating a warm and safe love bubble exclusively for the two of you.\ncommitting to your union as primary above everything else.\n\nThis workshop will include didactic teachings\, embodiment practices\, meditations\, journaling\, and intimacy enhancing exercises both during the workshop as well as for take home practice. \n\nNote: Please select ticket number below before purchase.
URL:https://soulgenesis.net/event/love-more-2024-feb/
LOCATION:Zoom
ORGANIZER;CN="Soul Genesis":MAILTO:Info@soulgenesis.net
END:VEVENT
BEGIN:VEVENT
DTSTART;TZID=America/New_York:20240114T140000
DTEND;TZID=America/New_York:20240114T160000
DTSTAMP:20260426T003507
CREATED:20231219T125857Z
LAST-MODIFIED:20231224T023232Z
UID:2250-1705240800-1705248000@soulgenesis.net
SUMMARY:Love More in 2024
DESCRIPTION:The Dance of the Masculine and Feminine:  \nWhy are the masculine and feminine energies so different?\nWhy is our polar opposite so attractive AND challenging at the same time?\nDo they really live on different planets?! \nWhatever the intention of Divine intelligence\, accepting and even celebrating these differences in our intimate relationships makes us more authentic\, aligned\, relaxed and fulfilled. \nFurthermore\, we can leverage these very differences as magnetizing forces of attraction to create passion\, seduction and adventure. \nJoin our series ‘Love more in 2024’ by exploring and practically embracing the following: \n\nthe archetypal masculine-focused\, protective\, present\, strong: a leader and manifestor\nthe archetypal feminine-loving\, caring\, intuitive\, radiant: a nurturer and collaborator\nenhancing polarity for magnetism and sexual attraction\nthe unlimited co-creative power of the masculine and feminine in union\nthe indescribable bliss of a couple surrendered to their love\n\nThis course will include the creation of a safe container\, a didactic teaching session\, an embodiment exercise\, Q&A and practices to bring home to your present or future lover. \nThis course is intended for both couples looking to upgrade their relationship as well as singles seeking that perfect soulmate. \nThis is a two hour virtual class will be held on January 14 at 2 PM EST. \nNote: Please select ticket number below before purchase.
URL:https://soulgenesis.net/event/love-more-in-2024/
LOCATION:Zoom
ORGANIZER;CN="Soul Genesis":MAILTO:Info@soulgenesis.net
END:VEVENT
END:VCALENDAR